BEGIN:VCALENDAR
VERSION:2.0
PRODID:-//Kayquin Garden - ECPv6.15.17.1//NONSGML v1.0//EN
CALSCALE:GREGORIAN
METHOD:PUBLISH
X-ORIGINAL-URL:https://kayquingarden.com
X-WR-CALDESC:Events for Kayquin Garden
REFRESH-INTERVAL;VALUE=DURATION:PT1H
X-Robots-Tag:noindex
X-PUBLISHED-TTL:PT1H
BEGIN:VTIMEZONE
TZID:UTC
BEGIN:STANDARD
TZOFFSETFROM:+0000
TZOFFSETTO:+0000
TZNAME:UTC
DTSTART:20240101T000000
END:STANDARD
END:VTIMEZONE
BEGIN:VEVENT
DTSTART;TZID=UTC:20251228T180000
DTEND;TZID=UTC:20251229T053000
DTSTAMP:20260421T141828
CREATED:20251120T094719Z
LAST-MODIFIED:20251216T203337Z
UID:6427-1766944800-1766986200@kayquingarden.com
SUMMARY:KayQuin Garden Saturday Special
DESCRIPTION:The Biggest Vibes Night in Udu — Every Last Saturday! \nGet ready for an unforgettable night of music\, comedy\, laughter\, games\, and good vibes as KayQuin Garden brings you the Saturday Special! \n🎤 Featuring:\nDollarGirl • OfficialDjcoco • MC Focus • Hypeman Sylva\n…plus MANY MORE top comedians and entertainers! \nWhat’s Waiting for You: \n💦 Relax at our ultra-modern overflow pool corner\n🌬️ Chill under our cool thatch-roof lounge\n😂 Experience premium comedy and hypeman energy like never before \n📅 Date: Every Last Saturday of the Month\n⏰ Time: 6PM till late\n📍 Venue: \nKayQuin Garden (Hotel & Event Center)\n4 Odjeni Street (Opp. Stance Gas Station)\, Udu Road\, Delta State \n🔥 Don’t Just Hear About It — Be There! \nTell a friend to tell a friend.\nVibes\, music\, laughter\, games… one location. One experience. \n📞 For enquiries & reservations: 07060559819
URL:https://kayquingarden.com/event/kayquin-garden-saturday-special/
LOCATION:Kayquin Garden\, 4 Odjeni Street\, Off Udu Egini Rd\, Opp. Stance Gas Station\, Ovwian\, Nigeria
ATTACH;FMTTYPE=image/jpeg:https://kayquingarden.com/wp-content/uploads/2025/11/kqgsp.jpg
END:VEVENT
BEGIN:VEVENT
DTSTART;TZID=UTC:20251225T180000
DTEND;TZID=UTC:20251226T050000
DTSTAMP:20260421T141828
CREATED:20251216T203612Z
LAST-MODIFIED:20251216T205423Z
UID:6447-1766685600-1766725200@kayquingarden.com
SUMMARY:Kayquin Show Case Party
DESCRIPTION:Get ready to shine at the Showcase Party! 🌟 Join us at Kayquin Garden for an unforgettable night featuring live performances by DOLLARGIRL\, KFLEX\, DJ WIZZY\, and MC BLESSED BOY. Don’t miss out on the ultimate holiday celebration! 🥂✨ \nEvent Details\n\nEvent Name: Showcase Party\nHost: Kayquin Garden\nDate: December 25\, 2025\nTime: 6:00 PM\nLocation: Kayquin Garden (Hotel and Event Center)\, 4 Odjeni Street (Opposite Stance Gas Station)\, Udu Road\, Delta State\n\nPerformers: \n\nDollargirl\nKflex\nDJ Wizzy\nMC Blessed Boy\n\nContact Number: 07060559819
URL:https://kayquingarden.com/event/kayquin-show-case-party/
END:VEVENT
END:VCALENDAR